BEGIN:VCALENDAR
VERSION:2.0
PRODID:-//Maxwell Air Force Base - ECPv6.15.20//NONSGML v1.0//EN
CALSCALE:GREGORIAN
METHOD:PUBLISH
X-WR-CALNAME:Maxwell Air Force Base
X-ORIGINAL-URL:https://lifeatthemax.us
X-WR-CALDESC:Events for Maxwell Air Force Base
REFRESH-INTERVAL;VALUE=DURATION:PT1H
X-Robots-Tag:noindex
X-PUBLISHED-TTL:PT1H
BEGIN:VTIMEZONE
TZID:America/Chicago
BEGIN:DAYLIGHT
TZOFFSETFROM:-0600
TZOFFSETTO:-0500
TZNAME:CDT
DTSTART:20250309T080000
END:DAYLIGHT
BEGIN:STANDARD
TZOFFSETFROM:-0500
TZOFFSETTO:-0600
TZNAME:CST
DTSTART:20251102T070000
END:STANDARD
BEGIN:DAYLIGHT
TZOFFSETFROM:-0600
TZOFFSETTO:-0500
TZNAME:CDT
DTSTART:20260308T080000
END:DAYLIGHT
BEGIN:STANDARD
TZOFFSETFROM:-0500
TZOFFSETTO:-0600
TZNAME:CST
DTSTART:20261101T070000
END:STANDARD
BEGIN:DAYLIGHT
TZOFFSETFROM:-0600
TZOFFSETTO:-0500
TZNAME:CDT
DTSTART:20270314T080000
END:DAYLIGHT
BEGIN:STANDARD
TZOFFSETFROM:-0500
TZOFFSETTO:-0600
TZNAME:CST
DTSTART:20271107T070000
END:STANDARD
END:VTIMEZONE
BEGIN:VEVENT
DTSTART;TZID=America/Chicago:20260601T090000
DTEND;TZID=America/Chicago:20260601T120000
DTSTAMP:20260424T042109
CREATED:20260417T201241Z
LAST-MODIFIED:20260417T201241Z
UID:10002265-1780304400-1780315200@lifeatthemax.us
SUMMARY:Chef K Culinary Camp
DESCRIPTION:Join us for the Chef K Culinary Camp hosted at Gunter Youth Center from June 1–5\, 2026\, running Monday through Friday\, 9:00 AM–12:00 PM. This hands-on culinary experience is open to youth ages 9 and older\, where participants will learn fun cooking skills in an engaging and interactive environment. The cost to attend is $55 per participant\, with YC members receiving a 15% discount. Please note that spaces are limited\, so early registration is strongly encouraged. Registration opens on May 1\, 2026.
URL:https://lifeatthemax.us/event/chef-k-culinary-camp/2026-06-01/
CATEGORIES:Hot Events,Youth Center
ATTACH;FMTTYPE=image/png:https://lifeatthemax.us/wp-content/uploads/2026/04/culinary-website.png
END:VEVENT
BEGIN:VEVENT
DTSTART;TZID=America/Chicago:20260602T090000
DTEND;TZID=America/Chicago:20260602T120000
DTSTAMP:20260424T042109
CREATED:20260417T201241Z
LAST-MODIFIED:20260417T201241Z
UID:10002266-1780390800-1780401600@lifeatthemax.us
SUMMARY:Chef K Culinary Camp
DESCRIPTION:Join us for the Chef K Culinary Camp hosted at Gunter Youth Center from June 1–5\, 2026\, running Monday through Friday\, 9:00 AM–12:00 PM. This hands-on culinary experience is open to youth ages 9 and older\, where participants will learn fun cooking skills in an engaging and interactive environment. The cost to attend is $55 per participant\, with YC members receiving a 15% discount. Please note that spaces are limited\, so early registration is strongly encouraged. Registration opens on May 1\, 2026.
URL:https://lifeatthemax.us/event/chef-k-culinary-camp/2026-06-02/
CATEGORIES:Hot Events,Youth Center
ATTACH;FMTTYPE=image/png:https://lifeatthemax.us/wp-content/uploads/2026/04/culinary-website.png
END:VEVENT
BEGIN:VEVENT
DTSTART;TZID=America/Chicago:20260603T090000
DTEND;TZID=America/Chicago:20260603T120000
DTSTAMP:20260424T042109
CREATED:20260417T201241Z
LAST-MODIFIED:20260417T201241Z
UID:10002267-1780477200-1780488000@lifeatthemax.us
SUMMARY:Chef K Culinary Camp
DESCRIPTION:Join us for the Chef K Culinary Camp hosted at Gunter Youth Center from June 1–5\, 2026\, running Monday through Friday\, 9:00 AM–12:00 PM. This hands-on culinary experience is open to youth ages 9 and older\, where participants will learn fun cooking skills in an engaging and interactive environment. The cost to attend is $55 per participant\, with YC members receiving a 15% discount. Please note that spaces are limited\, so early registration is strongly encouraged. Registration opens on May 1\, 2026.
URL:https://lifeatthemax.us/event/chef-k-culinary-camp/2026-06-03/
CATEGORIES:Hot Events,Youth Center
ATTACH;FMTTYPE=image/png:https://lifeatthemax.us/wp-content/uploads/2026/04/culinary-website.png
END:VEVENT
BEGIN:VEVENT
DTSTART;TZID=America/Chicago:20260604T090000
DTEND;TZID=America/Chicago:20260604T120000
DTSTAMP:20260424T042109
CREATED:20260417T201241Z
LAST-MODIFIED:20260417T201241Z
UID:10002268-1780563600-1780574400@lifeatthemax.us
SUMMARY:Chef K Culinary Camp
DESCRIPTION:Join us for the Chef K Culinary Camp hosted at Gunter Youth Center from June 1–5\, 2026\, running Monday through Friday\, 9:00 AM–12:00 PM. This hands-on culinary experience is open to youth ages 9 and older\, where participants will learn fun cooking skills in an engaging and interactive environment. The cost to attend is $55 per participant\, with YC members receiving a 15% discount. Please note that spaces are limited\, so early registration is strongly encouraged. Registration opens on May 1\, 2026.
URL:https://lifeatthemax.us/event/chef-k-culinary-camp/2026-06-04/
CATEGORIES:Hot Events,Youth Center
ATTACH;FMTTYPE=image/png:https://lifeatthemax.us/wp-content/uploads/2026/04/culinary-website.png
END:VEVENT
BEGIN:VEVENT
DTSTART;TZID=America/Chicago:20260605T090000
DTEND;TZID=America/Chicago:20260605T120000
DTSTAMP:20260424T042109
CREATED:20260417T201241Z
LAST-MODIFIED:20260417T201241Z
UID:10002269-1780650000-1780660800@lifeatthemax.us
SUMMARY:Chef K Culinary Camp
DESCRIPTION:Join us for the Chef K Culinary Camp hosted at Gunter Youth Center from June 1–5\, 2026\, running Monday through Friday\, 9:00 AM–12:00 PM. This hands-on culinary experience is open to youth ages 9 and older\, where participants will learn fun cooking skills in an engaging and interactive environment. The cost to attend is $55 per participant\, with YC members receiving a 15% discount. Please note that spaces are limited\, so early registration is strongly encouraged. Registration opens on May 1\, 2026.
URL:https://lifeatthemax.us/event/chef-k-culinary-camp/2026-06-05/
CATEGORIES:Hot Events,Youth Center
ATTACH;FMTTYPE=image/png:https://lifeatthemax.us/wp-content/uploads/2026/04/culinary-website.png
END:VEVENT
END:VCALENDAR