BEGIN:VCALENDAR
VERSION:2.0
PRODID:-//Maxwell Air Force Base - ECPv6.15.20//NONSGML v1.0//EN
CALSCALE:GREGORIAN
METHOD:PUBLISH
X-WR-CALNAME:Maxwell Air Force Base
X-ORIGINAL-URL:https://lifeatthemax.us
X-WR-CALDESC:Events for Maxwell Air Force Base
REFRESH-INTERVAL;VALUE=DURATION:PT1H
X-Robots-Tag:noindex
X-PUBLISHED-TTL:PT1H
BEGIN:VTIMEZONE
TZID:America/Chicago
BEGIN:DAYLIGHT
TZOFFSETFROM:-0600
TZOFFSETTO:-0500
TZNAME:CDT
DTSTART:20250309T080000
END:DAYLIGHT
BEGIN:STANDARD
TZOFFSETFROM:-0500
TZOFFSETTO:-0600
TZNAME:CST
DTSTART:20251102T070000
END:STANDARD
BEGIN:DAYLIGHT
TZOFFSETFROM:-0600
TZOFFSETTO:-0500
TZNAME:CDT
DTSTART:20260308T080000
END:DAYLIGHT
BEGIN:STANDARD
TZOFFSETFROM:-0500
TZOFFSETTO:-0600
TZNAME:CST
DTSTART:20261101T070000
END:STANDARD
BEGIN:DAYLIGHT
TZOFFSETFROM:-0600
TZOFFSETTO:-0500
TZNAME:CDT
DTSTART:20270314T080000
END:DAYLIGHT
BEGIN:STANDARD
TZOFFSETFROM:-0500
TZOFFSETTO:-0600
TZNAME:CST
DTSTART:20271107T070000
END:STANDARD
END:VTIMEZONE
BEGIN:VEVENT
DTSTART;TZID=America/Chicago:20260623T090000
DTEND;TZID=America/Chicago:20260623T120000
DTSTAMP:20260424T042132
CREATED:20260417T201526Z
LAST-MODIFIED:20260417T201526Z
UID:10002270-1782205200-1782216000@lifeatthemax.us
SUMMARY:Digital Filmmaking Camp
DESCRIPTION:Join us for the Digital Filmmaking Camp hosted at Gunter Youth Center from June 23–26\, 2026\, running Tuesday through Friday\, 9:00 AM–12:00 PM. This camp is designed for youth ages 9 and older who are interested in exploring the basics of filmmaking in a fun\, hands-on environment. Participants will learn creative storytelling\, filming techniques\, and digital production skills. The cost is $45 per participant\, with members receiving a 15% discount. Please note that registration is non-refundable. To register\, please use the CYPBMS portal or contact 334-416-1427 for assistance.
URL:https://lifeatthemax.us/event/digital-filmmaking-camp/2026-06-23/
CATEGORIES:Hot Events,Youth Center
ATTACH;FMTTYPE=image/png:https://lifeatthemax.us/wp-content/uploads/2026/04/film-making-website.png
END:VEVENT
BEGIN:VEVENT
DTSTART;TZID=America/Chicago:20260624T090000
DTEND;TZID=America/Chicago:20260624T120000
DTSTAMP:20260424T042132
CREATED:20260417T201526Z
LAST-MODIFIED:20260417T201526Z
UID:10002271-1782291600-1782302400@lifeatthemax.us
SUMMARY:Digital Filmmaking Camp
DESCRIPTION:Join us for the Digital Filmmaking Camp hosted at Gunter Youth Center from June 23–26\, 2026\, running Tuesday through Friday\, 9:00 AM–12:00 PM. This camp is designed for youth ages 9 and older who are interested in exploring the basics of filmmaking in a fun\, hands-on environment. Participants will learn creative storytelling\, filming techniques\, and digital production skills. The cost is $45 per participant\, with members receiving a 15% discount. Please note that registration is non-refundable. To register\, please use the CYPBMS portal or contact 334-416-1427 for assistance.
URL:https://lifeatthemax.us/event/digital-filmmaking-camp/2026-06-24/
CATEGORIES:Hot Events,Youth Center
ATTACH;FMTTYPE=image/png:https://lifeatthemax.us/wp-content/uploads/2026/04/film-making-website.png
END:VEVENT
BEGIN:VEVENT
DTSTART;TZID=America/Chicago:20260625T090000
DTEND;TZID=America/Chicago:20260625T120000
DTSTAMP:20260424T042132
CREATED:20260417T201526Z
LAST-MODIFIED:20260417T201526Z
UID:10002272-1782378000-1782388800@lifeatthemax.us
SUMMARY:Digital Filmmaking Camp
DESCRIPTION:Join us for the Digital Filmmaking Camp hosted at Gunter Youth Center from June 23–26\, 2026\, running Tuesday through Friday\, 9:00 AM–12:00 PM. This camp is designed for youth ages 9 and older who are interested in exploring the basics of filmmaking in a fun\, hands-on environment. Participants will learn creative storytelling\, filming techniques\, and digital production skills. The cost is $45 per participant\, with members receiving a 15% discount. Please note that registration is non-refundable. To register\, please use the CYPBMS portal or contact 334-416-1427 for assistance.
URL:https://lifeatthemax.us/event/digital-filmmaking-camp/2026-06-25/
CATEGORIES:Hot Events,Youth Center
ATTACH;FMTTYPE=image/png:https://lifeatthemax.us/wp-content/uploads/2026/04/film-making-website.png
END:VEVENT
BEGIN:VEVENT
DTSTART;TZID=America/Chicago:20260626T090000
DTEND;TZID=America/Chicago:20260626T120000
DTSTAMP:20260424T042132
CREATED:20260417T201526Z
LAST-MODIFIED:20260417T201526Z
UID:10002273-1782464400-1782475200@lifeatthemax.us
SUMMARY:Digital Filmmaking Camp
DESCRIPTION:Join us for the Digital Filmmaking Camp hosted at Gunter Youth Center from June 23–26\, 2026\, running Tuesday through Friday\, 9:00 AM–12:00 PM. This camp is designed for youth ages 9 and older who are interested in exploring the basics of filmmaking in a fun\, hands-on environment. Participants will learn creative storytelling\, filming techniques\, and digital production skills. The cost is $45 per participant\, with members receiving a 15% discount. Please note that registration is non-refundable. To register\, please use the CYPBMS portal or contact 334-416-1427 for assistance.
URL:https://lifeatthemax.us/event/digital-filmmaking-camp/2026-06-26/
CATEGORIES:Hot Events,Youth Center
ATTACH;FMTTYPE=image/png:https://lifeatthemax.us/wp-content/uploads/2026/04/film-making-website.png
END:VEVENT
END:VCALENDAR